BEGIN:VCALENDAR
PRODID:PlannerXE123
VERSION:2.0
CALSCALE:GREGORIAN
METHOD:PUBLISH
BEGIN:VEVENT
DTSTART:20260420T000000Z
DTEND:20260420T080000Z
RRULE:FREQ=DAILY;UNTIL=20260424T145959Z
DTSTAMP:20260422T062013Z
UID:(www.cnpck.org_7819)
CREATED:20260422T062013Z
DESCRIPTION:수련회 장소 : 중국\n\n<a href="http://www.cnpck.org/index.php?iCal=ics_feed&mid=board_Ldcm68&pOption=W2&document_srl=7819">원본일정</a>
LOCATION:
SEQUENCE:1
STATUS:CONFIRMED
SUMMARY:노회 임원 수련회
TRANSP:TRANSPARENT
END:VEVENT
END:VCALENDAR
