BEGIN:VCALENDAR
PRODID:PlannerXE123
VERSION:2.0
CALSCALE:GREGORIAN
METHOD:PUBLISH
BEGIN:VEVENT
DTSTART:20260511T013000Z
DTEND:20260511T030000Z
DTSTAMP:20260422T114646Z
UID:(www.cnpck.org_7941)
CREATED:20260422T114646Z
DESCRIPTION:장소 : 노회회관\n\n<a href="http://www.cnpck.org/index.php?document_srl=7941&mid=board_Ldcm68&document_srl=7941">원본일정</a>
LOCATION:
SEQUENCE:1
STATUS:CONFIRMED
SUMMARY:임원회의
TRANSP:TRANSPARENT
END:VEVENT
END:VCALENDAR
