BEGIN:VCALENDAR
PRODID:PlannerXE123
VERSION:2.0
CALSCALE:GREGORIAN
METHOD:PUBLISH
BEGIN:VEVENT
DTSTART:20260506T020000Z
DTEND:20260506T030000Z
DTSTAMP:20260422T114645Z
UID:(www.cnpck.org_7940)
CREATED:20260422T114645Z
DESCRIPTION:장 소 : 노회회관\n\n<a href="http://www.cnpck.org/index.php?document_srl=7940&mid=board_Ldcm68&document_srl=7940">원본일정</a>
LOCATION:
SEQUENCE:1
STATUS:CONFIRMED
SUMMARY:제111회 총회총대 준비모임
TRANSP:TRANSPARENT
END:VEVENT
END:VCALENDAR
