BEGIN:VCALENDAR
PRODID:PlannerXE123
VERSION:2.0
CALSCALE:GREGORIAN
METHOD:PUBLISH
BEGIN:VEVENT
DTSTART:20260526T003000Z
DTEND:20260526T080000Z
DTSTAMP:20260422T114601Z
UID:(www.cnpck.org_7906)
CREATED:20260422T114601Z
DESCRIPTION:장 소 : 서산국민체육센터 충남 서산시 갈산동 110-1 , 041-660-3103\n\n<a href="http://www.cnpck.org/index.php?document_srl=7906&mid=board_Ldcm68&document_srl=7906">원본일정</a>
LOCATION:
SEQUENCE:1
STATUS:CONFIRMED
SUMMARY:노회 창립 80주년 기념 충남노뢰의 날 체육대회
TRANSP:TRANSPARENT
END:VEVENT
END:VCALENDAR
