BEGIN:VCALENDAR
PRODID:PlannerXE123
VERSION:2.0
CALSCALE:GREGORIAN
METHOD:PUBLISH
BEGIN:VEVENT
DTSTART:20260415T000000Z
DTEND:20260415T080000Z
DTSTAMP:20260422T103124Z
UID:(www.cnpck.org_7820)
CREATED:20260422T103124Z
DESCRIPTION:정기노회 후 휴무일입니다\n\n<a href="http://www.cnpck.org/index.php?document_srl=7820&mid=board_Ldcm68&document_srl=7820">원본일정</a>
LOCATION:
SEQUENCE:1
STATUS:CONFIRMED
SUMMARY:노회 휴무
TRANSP:TRANSPARENT
END:VEVENT
END:VCALENDAR
