BEGIN:VCALENDAR
PRODID:PlannerXE123
VERSION:2.0
CALSCALE:GREGORIAN
METHOD:PUBLISH
BEGIN:VEVENT
DTSTART:20260414T000000Z
DTEND:20260414T080000Z
DTSTAMP:20260422T103022Z
UID:(www.cnpck.org_7818)
CREATED:20260422T103022Z
DESCRIPTION:장 소 : 예산교회\n\n<a href="http://www.cnpck.org/index.php?document_srl=7818&mid=board_Ldcm68&document_srl=7818">원본일정</a>
LOCATION:
SEQUENCE:1
STATUS:CONFIRMED
SUMMARY:제154회 정기노회
TRANSP:TRANSPARENT
END:VEVENT
END:VCALENDAR
